BEGIN:VCALENDAR
VERSION:2.0
PRODID:-//BPW Ticino//NONSGML kigkonsult.se iCalcreator 2.16.12//
METHOD:PUBLISH
X-MS-OLK-FORCEINSPECTOROPEN:TRUE
BEGIN:VEVENT
UID:20260422T224108CEST-7351aibdCF@BPW Ticino
DTSTAMP:20260422T204108Z
DESCRIPTION:
DTSTART:20140508T190000
DTEND:20140508T230000
LOCATION:Hotel Serpiano. 
ORGANIZER:MAILTO:BPW Ticino <info@bpw-ticino.ch>
SUMMARY:a Cena con Arte
END:VEVENT
END:VCALENDAR
