BEGIN:VCALENDAR
VERSION:2.0
PRODID:-//BPW Ticino//NONSGML kigkonsult.se iCalcreator 2.16.12//
METHOD:PUBLISH
X-MS-OLK-FORCEINSPECTOROPEN:TRUE
BEGIN:VEVENT
UID:20260422T224026CEST-8215sPKLIo@BPW Ticino
DTSTAMP:20260422T204026Z
DESCRIPTION: 
DTSTART:20140320T190000
DTEND:20140320T210000
LOCATION:Lugano\, c/o sede Swica\, via Cantonale 
ORGANIZER:MAILTO:BPW Ticino <info@bpw-ticino.ch>
SUMMARY:Serata con Associazione donne cardiologhe
END:VEVENT
END:VCALENDAR
