BEGIN:VCALENDAR
VERSION:2.0
PRODID:-//BPW Ticino//NONSGML kigkonsult.se iCalcreator 2.16.12//
METHOD:PUBLISH
X-MS-OLK-FORCEINSPECTOROPEN:TRUE
BEGIN:VEVENT
UID:20260422T223843CEST-6252njVCri@BPW Ticino
DTSTAMP:20260422T203843Z
DESCRIPTION: Seguiranno maggiori informazioni.\n\n
DTSTART:20140307T000000
DTEND:20140307T000000
LOCATION:Lugano 
ORGANIZER:MAILTO:BPW Ticino <info@bpw-ticino.ch>
SUMMARY:Equal Pay Day
END:VEVENT
END:VCALENDAR
