BEGIN:VCALENDAR
VERSION:2.0
PRODID:-//BPW Ticino//NONSGML kigkonsult.se iCalcreator 2.16.12//
METHOD:PUBLISH
X-MS-OLK-FORCEINSPECTOROPEN:TRUE
BEGIN:VEVENT
UID:20260422T224738CEST-62416rb7cF@BPW Ticino
DTSTAMP:20260422T204738Z
DESCRIPTION: Flash Mob in piazza Dante a Lugano per l'OBR 2014 -  One Billi
 on Rising for Justice.\n\nUlteriori informazioni sulla pagina Facebook del
 l'evento\, qua:\n\nhttps://www.facebook.com/LuganoRisingAndDancingWithOneB
 illionRising\n\n\n
DTSTART:20140214T183000
DTEND:20140214T193000
LOCATION:Piazza dante\, Lugano 
ORGANIZER:MAILTO:BPW Ticino <info@bpw-ticino.ch>
SUMMARY:Flash Mob One Billion Rising
END:VEVENT
END:VCALENDAR
