BEGIN:VCALENDAR
VERSION:2.0
PRODID:-//BPW Ticino//NONSGML kigkonsult.se iCalcreator 2.16.12//
METHOD:PUBLISH
X-MS-OLK-FORCEINSPECTOROPEN:TRUE
BEGIN:VEVENT
UID:20260422T223850CEST-27042B9fFI@BPW Ticino
DTSTAMP:20260422T203850Z
DESCRIPTION: Nell’ambito  delle”Giornate Internazionali contro la Violenza 
 di Genere”\,  la Commissione Consultiva per le pari opportunità tra i sess
 i\, il Gruppo di Accompagnamento Violenza Domestica  e la Delegata  per l'
 Aiuto alle Vittime di Reati  promuovono per venerdì 29 novembre 2013\, a B
 ellinzona\, una conferenza sul fenomeno  dello stalking. \n\n\n
DTSTART:20131129T200000
DTEND:20131129T200000
LOCATION:Bellinzona
ORGANIZER:MAILTO:BPW Ticino <info@bpw-ticino.ch>
SUMMARY:Giornate Internazionali contro la Violenza di Genere
END:VEVENT
END:VCALENDAR
