BEGIN:VCALENDAR
VERSION:2.0
PRODID:-//BPW Ticino//NONSGML kigkonsult.se iCalcreator 2.16.12//
METHOD:PUBLISH
X-MS-OLK-FORCEINSPECTOROPEN:TRUE
BEGIN:VEVENT
UID:20260422T224856CEST-2417mm5Ucc@BPW Ticino
DTSTAMP:20260422T204856Z
DESCRIPTION:\nin collaborazione con la compagnia di assicurazioni Zurigo ab
 biamo il piacere di invitarvi ad una serata di formazione e approfondiment
 o sulla previdenza professionale e sulle possibilità di utilizzo degli str
 umenti della previdenza a supporto delle iniziative imprenditoriali.\n\nLa
  serata avrà luogo giovedì 19 settembre 2013 \, alle 18.30 \, presso la se
 de della Zurigo a Lugano\, in via Giuseppe Curti 10 (traversa di Corso Elv
 ezia).\nA seguire uno standing dinner.\n\nPer motivi organizzativi vi preg
 hiamo di confermare la vostra partecipazione entro lunedi’ 16 settembre \,
  all'indirizzo info@bpw-ticino.ch\n\n
DTSTART:20130919T180000
DTEND:20130919T220000
LOCATION:Lugano
ORGANIZER:MAILTO:BPW Ticino <info@bpw-ticino.ch>
SUMMARY:Zurigo Vita 
END:VEVENT
END:VCALENDAR
