BEGIN:VCALENDAR
VERSION:2.0
PRODID:-//BPW Ticino//NONSGML kigkonsult.se iCalcreator 2.16.12//
METHOD:PUBLISH
X-MS-OLK-FORCEINSPECTOROPEN:TRUE
BEGIN:VEVENT
UID:20260422T224026CEST-3155zExjUD@BPW Ticino
DTSTAMP:20260422T204026Z
DESCRIPTION: \n\nCare socie\, care amiche\n\nabbiamo il grande piacere di i
 nvitarvi ad una giornata enogastronomica che ci condurrà nei genuini sapor
 i della terra di Sicilia\, mercoledì 11 settembre a Bellinzona e giovedì 1
 2 settembre a Lamone. A farci da cicerone e da guida ci saranno la socia N
 ancy Astone\, Presidente FIDAPA della sezione di Barcellona Pozzo di Gotto
 \, e la nostra amica Nerida Abbott Deganis.\n\nNancy Astone gestisce insie
 me a suo marito la “Cantina Cambria” \, nata nel 1864\, che si trova nella
  zona di Furnari\, un paese della Sicilia orientale affacciato sull’incant
 o delle isole Eolie. L’azienda agricola coltiva 25 ettari di terreno con v
 iti autoctone come il Nero d’avola\, Nocera\, Nerello e diverse altre\, ot
 tenendo così nove tipologie di vino eccellente\, tanto da ottenere nel 201
 2 il premio  'TOP HUNDRED 2012' per il vino Mastronicola Nocera 2010\, ric
 onosciuto quale uno dei migliori vini d’Italia.\n\nNerida Abbott Deganis d
 ell’azienda La Bottega del Vino a Chiasso\, che oltre al commercio di vino
  organizza corsi d’enologia (in italiano e inglese) e degustazioni.\n\nPiu
  in basso troverete tutte le informazioni riguardanti le due serate propos
 te\, e i contatti telefonici. Vi preghiamo di confermare direttamente a Ne
 rida Abbott Deganis al numero 076/ 416 84 40\n\n--\n\n\nLA BOTTEGA DEL VIN
 O\, Chiasso\npresenteremo i vini dell’ Azienda Agricola Cambria\, Furnari
 \nMercoledì 11 settembre\nPresso il Ristorante Prisma\, via Henri Guisan 5
 \, Bellinzona tel: 091 825 02 33\nDalle 18.30……..\n\n\nGiovedì 12 settembr
 e\npresso il Ristorante Serta a Lamone\ndalle 17.30 - 19.30 Degustazione i
 n cantina – 6 vini dvers del loro assortimento\ndalle 20.00 Menù degustazi
 one abbinata vini dell’azienda Cambria presentati da Nancy Astone\nMenù\nT
 agliere di Serta\nBruschettine di verdure\nSpicchi di pecorino ed arancini
  siciliani\n*\n“Inzolia” Terre di Sicilia igt – Cambria\n***\nScialatielli
  (una sorta di tagliatella tipica del sud) alla Norma\n(melanzane\, olive 
 e pomodoro fresco)\n*\n“Nero d’Avola” Terre di Sicilia igt - Cambria \n***
 \nMedaglioni di manzo baby CH in crosta di sale\nPatate novelle al rosmari
 no\nCarote e zucchine\n*\n“Mastronicola” nocera in purezza igt – Cambria\n
 ***\nCaffè\n\n*****\nPrezzo : 89 chf pp\,  prenotazione : Ristorante serta
  : 091 945 02 35\, Nerida 076 416 84 \n\n\n\n
DTSTART:20130912T100000
DTEND:20130912T180000
LOCATION:Lamone 
ORGANIZER:MAILTO:BPW Ticino <info@bpw-ticino.ch>
SUMMARY:Degustazioni enogastronomiche Cantina Cambria
END:VEVENT
END:VCALENDAR
