BEGIN:VCALENDAR
VERSION:2.0
PRODID:-//BPW Ticino//NONSGML kigkonsult.se iCalcreator 2.16.12//
METHOD:PUBLISH
X-MS-OLK-FORCEINSPECTOROPEN:TRUE
BEGIN:VEVENT
UID:20260422T224027CEST-8231Uu64UT@BPW Ticino
DTSTAMP:20260422T204027Z
DESCRIPTION: \nCare socie\, care amiche\n\nabbiamo il grande piacere di inv
 itarvi ad una giornata enogastronomica che ci condurrà nei genuini sapori 
 della terra di Sicilia\, mercoledì 11 settembre a Bellinzona e giovedì 12 
 settembre a Lamone. A farci da cicerone e da guida ci saranno la socia Nan
 cy Astone\, Presidente FIDAPA della sezione di Barcellona Pozzo di Gotto\,
  e la nostra amica Nerida Abbott Deganis.\n\nNancy Astone gestisce insieme
  a suo marito la “Cantina Cambria” \, nata nel 1864\, che si trova nella z
 ona di Furnari\, un paese della Sicilia orientale affacciato sull’incanto 
 delle isole Eolie. L’azienda agricola coltiva 25 ettari di terreno con vit
 i autoctone come il Nero d’avola\, Nocera\, Nerello e diverse altre\, otte
 nendo così nove tipologie di vino eccellente\, tanto da ottenere nel 2012 
 il premio  'TOP HUNDRED 2012' per il vino Mastronicola Nocera 2010\, ricon
 osciuto quale uno dei migliori vini d’Italia.\n\nNerida Abbott Deganis del
 l’azienda La Bottega del Vino a Chiasso\, che oltre al commercio di vino o
 rganizza corsi d’enologia (in italiano e inglese) e degustazioni.\n\npiu i
 n basso troverete tutte le informazioni riguardanti le due serate proposte
 \, e i contatti telefonici. Vi preghiamo di confermare direttamente a Neri
 da Abbott Deganis al numero 076/ 416 84 40\n\n---\n\nLA BOTTEGA DEL VINO\,
  Chiasso\npresenteremo i vini dell’ Azienda Agricola Cambria\, Furnari\nMe
 rcoledì 11 settembre\nPresso il Ristorante Prisma\, via Henri Guisan 5\, B
 ellinzona tel: 091 825 02 33\nDalle 18.30……..\n\nGiovedì 12 settembre\npre
 sso il Ristorante Serta a Lamone\ndalle 17.30 - 19.30 Degustazione in cant
 ina – 6 vini dvers del loro assortimento\ndalle 20.00 Menù degustazione ab
 binata vini dell’azienda Cambria presentati da Nancy Astone\nMenù\n\nTagli
 ere di Serta\nBruschettine di verdure\nSpicchi di pecorino ed arancini sic
 iliani\n*\n“Inzolia” Terre di Sicilia igt – Cambria\n***\nScialatielli (un
 a sorta di tagliatella tipica del sud) alla Norma\n(melanzane\, olive e po
 modoro fresco)\n*\n“Nero d’Avola” Terre di Sicilia igt - Cambria \n***\nMe
 daglioni di manzo baby CH in crosta di sale\nPatate novelle al rosmarino\n
 Carote e zucchine\n*\n“Mastronicola” nocera in purezza igt – Cambria\n***
 \nCaffè\n\n*****\n\nPrezzo : 89.- chf pp\,  prenotazione : Ristorante sert
 a : 091 945 02 35\, Nerida 076 416 84 \n
DTSTART:20130911T100000
DTEND:20130911T180000
LOCATION:Bellinzona 
ORGANIZER:MAILTO:BPW Ticino <info@bpw-ticino.ch>
SUMMARY:Degustazioni enogastronomiche Cantina Cambria
END:VEVENT
END:VCALENDAR
