BEGIN:VCALENDAR
VERSION:2.0
PRODID:-//BPW Ticino//NONSGML kigkonsult.se iCalcreator 2.16.12//
METHOD:PUBLISH
X-MS-OLK-FORCEINSPECTOROPEN:TRUE
BEGIN:VEVENT
UID:20260422T224657CEST-7272pgW2MF@BPW Ticino
DTSTAMP:20260422T204657Z
DESCRIPTION:Tradizionale cena delle candele\, al grand Hotel Villa Sassa\, 
 a Lugano. \nSeguiranno maggiori informazioni riguardanti il menù\, e le mo
 dalità di iscrizione. \n\n
DTSTART:20140221T190000
DTEND:20140221T230000
LOCATION:Villa Sassa\, Lugano 
ORGANIZER:MAILTO:BPW Ticino <info@bpw-ticino.ch>
SUMMARY:Cena delle candele
END:VEVENT
END:VCALENDAR
