BEGIN:VCALENDAR
VERSION:2.0
PRODID:-//BPW Ticino//NONSGML kigkonsult.se iCalcreator 2.16.12//
METHOD:PUBLISH
X-MS-OLK-FORCEINSPECTOROPEN:TRUE
BEGIN:VEVENT
UID:20260422T224025CEST-8385SxgD5S@BPW Ticino
DTSTAMP:20260422T204025Z
DESCRIPTION:Annuale assemblea BPW Ticino.\n\nE' richiesta la partecipazione
  di tutte le socie.\n\nPrego confermare la propria presenza a info@bpw-tic
 ino.ch tramite email.\nIn caso di impossibilità di partecipare è possibile
  delegare a un'altra socia\, sempre indicandocelo per email.\n\nDopo l'ass
 emblea come di consueto per chi lo gradirà si potrà rimanere per cena.\n
DTSTART:20140116T190000
DTEND:20140116T230000
LOCATION:Lugano -  canvetto luganese
ORGANIZER:MAILTO:BPW Ticino <info@bpw-ticino.ch>
SUMMARY:Assemblea annuale BPW Ticino
END:VEVENT
END:VCALENDAR
