BEGIN:VCALENDAR
VERSION:2.0
PRODID:-//BPW Ticino//NONSGML kigkonsult.se iCalcreator 2.16.12//
METHOD:PUBLISH
X-MS-OLK-FORCEINSPECTOROPEN:TRUE
BEGIN:VEVENT
UID:20260422T223850CEST-7993zKFbg8@BPW Ticino
DTSTAMP:20260422T203850Z
DESCRIPTION: Tradizionale cena di Natale del club BPW Ticino.\nSeguiranno u
 lteriori dettagli sul luogo\, menù e prezzi.\n\n
DTSTART:20131122T190000
DTEND:20131122T230000
LOCATION:da confermare 
ORGANIZER:MAILTO:BPW Ticino <info@bpw-ticino.ch>
SUMMARY:Cena di Natale BPW Ticino
END:VEVENT
END:VCALENDAR
