BEGIN:VCALENDAR
VERSION:2.0
PRODID:-//BPW Ticino//NONSGML kigkonsult.se iCalcreator 2.16.12//
METHOD:PUBLISH
X-MS-OLK-FORCEINSPECTOROPEN:TRUE
BEGIN:VEVENT
UID:20260422T223924CEST-3491vKIZcD@BPW Ticino
DTSTAMP:20260422T203924Z
DESCRIPTION:Conferenza Internazionale 'Women&Technologies®: e-Nutrition' Mi
 lano\, 5 novembre 2013 \nCamera di Commercio di Milano\, Sala Conferenze\n
 \nLa conferenza internazionale Women&Technologies® ha un duplice obiettivo
 : in primo luogo quello di aumentare la consapevolezza individuale (indipe
 ndentemente dalla nazionalità\, sesso\, età\, estrazione sociale\, tipo di
  cultura e specifiche attitudini) riguardo l’importanza delle tematiche re
 lative alla salvaguardia del pianeta e al futuro delle nuove generazioni c
 he sono intimamente legate all’innovazione in campo tecnologico\; in secon
 do luogo quello di motivare i giovani\, la 'generazione 2015' verso scelte
  professionali fondate sulla trasversalità delle tecnologie e l'acquisizio
 ne di conoscenze e abilità mediante adeguati percorsi di apprendimento sia
  formali (scuola e università) sia informali. Infatti la sfida di preparar
 e la 'generazione 2015' al mondo futuro richiede la promozione di competen
 ze basate sull'integrazione tra le conoscenze tipiche delle discipline for
 mali\, come matematica e logica\, e quelle derivanti dalle scienze umane q
 uali psicologia\, scienze sociali\, scienze cognitive\, pedagogia\, antrop
 ologia\, linguistica e studi letterari. Il mondo dell'impresa nella sua tr
 asformazione dalla centralità del prodotto a quella del servizio\, richied
 e professionalità che tengano conto delle esigenze della persona\, dell'am
 biente\, delle interazioni sociali\, della solidarietà\, dei valori. Conse
 guentemente la stessa forma di cambiamento deve essere introdotta come 'bu
 ona pratica' nella pubblica amministrazione. Ciò che crea innovazione sono
  non solo le tecnologie ma le persone\, con la loro capacità di concepire 
 diversamente i problemi e di identificare nuovi obiettivi. lLa conferenza 
 intendeinoltre fare emergere il contributo specifico delle donne a questo 
 approccio per il progresso : le donne hanno dimostrato non solo di essere 
 attente fruitrici di tecnologie\, esprimendo una notevole saggezza e creat
 ività nell'adattarle al loro sistema di relazioni sociali e all'esigenza d
 ella sostenibilità\, ma anche di saper dare un contributo sempre maggiore 
 alla creazione di tecnologie e all'introduzione di innovazioni. E' fondame
 ntale quindi che aumenti il numero di donne che considerino le tecnologie\
 , qualunque professione abbiano scelto\, come terreno e opportunità intorn
 o a cui sviluppare creatività e innovazione. E' parte integrante della con
 ferenza anche il premio 'Le Tecnovisionarie®' che ha lo scopo di valorizza
 re donne capaci di 'inventare il futuro' creando tecnologie\, donne che co
 n il proprio lavoro hanno testimoniato di saper coniugare creatività\, inn
 ovazione e qualità della vita.
DTSTART:20131105T090000
DTEND:20131105T190000
LOCATION:camera di commercio di Milano 
ORGANIZER:MAILTO:BPW Ticino <info@bpw-ticino.ch>
SUMMARY:Conferenza Women & Technologies
END:VEVENT
END:VCALENDAR
