BEGIN:VCALENDAR
VERSION:2.0
PRODID:-//BPW Ticino//NONSGML kigkonsult.se iCalcreator 2.16.12//
METHOD:PUBLISH
X-MS-OLK-FORCEINSPECTOROPEN:TRUE
BEGIN:VEVENT
UID:20260423T001300CEST-9417jH0ZrA@BPW Ticino
DTSTAMP:20260422T221300Z
DESCRIPTION: BPW Ticino -  formazione continua -  informatica \n\nL'uso del
 le moderne tecnologie di condivisione documenti e di lavoro cooperativo in
  rete tramite gli strumenti gratuiti offerti da Google (Google drive).\nUn
 a lezione -  esercitazione in cui le partecipanti potranno capire come mig
 liorare il proprio lavoro grazie alla collaborazione in cloud.\nNon sarà u
 na lezione frontale: è richiesto quindi che ogni uno o due partecipanti al
  massimo vi sia un computer portatile su cui poter lavorare individualment
 e. PC o Mac è indifferente.\nSaranno presentate le possibilità d'utilizzo\
 , i vantaggi e le modalità per creare\, caricare\, condividere ed elaborar
 e documenti fra più persone grazie a Google Drive.\n\nE' richiesta una dis
 creta conoscenza nell'uso del PC e l'iscrizione a edanese@gmail.com specif
 icando se si porterà il proprio laptop.\n\nTenuto dalla nostra socia Elisa
  Danese (www.hypno-frog.com) responsabile IT e sito web BPW Ticino\n\n
DTSTART:20131018T183000
DTEND:20131018T203000
LOCATION:Lugano\, c/o sede SWICA
ORGANIZER:MAILTO:BPW Ticino <info@bpw-ticino.ch>
SUMMARY:Serata di formazione informatica: Google Drive
END:VEVENT
END:VCALENDAR
