BEGIN:VCALENDAR
VERSION:2.0
PRODID:-//BPW Ticino//NONSGML kigkonsult.se iCalcreator 2.16.12//
METHOD:PUBLISH
X-MS-OLK-FORCEINSPECTOROPEN:TRUE
BEGIN:VEVENT
UID:20260423T001418CEST-9827sgjnz8@BPW Ticino
DTSTAMP:20260422T221418Z
DESCRIPTION: 
DTSTART:20130907T130000
DTEND:20130907T140000
LOCATION:Zurigo
ORGANIZER:MAILTO:BPW Ticino <info@bpw-ticino.ch>
SUMMARY:Conferenza presidenti
END:VEVENT
END:VCALENDAR
