BEGIN:VCALENDAR
VERSION:2.0
PRODID:-//BPW Ticino//NONSGML kigkonsult.se iCalcreator 2.16.12//
METHOD:PUBLISH
X-MS-OLK-FORCEINSPECTOROPEN:TRUE
BEGIN:VEVENT
UID:20260422T223925CEST-7504zEMeR3@BPW Ticino
DTSTAMP:20260422T203925Z
DESCRIPTION:Siamo felici di potervi invitare all’evento “Conoscersi… passeg
 giando”\, che si terrà sabato 31 agosto 2013.\nQuesto prossimo evento prev
 ede una piacevole passeggiata nei boschi del Monte San Giorgio\, seguita d
 a\nun aperitivo all’Hotel Serpiano (6867 Serpiano\, http://www.serpiano.ch
 ) offerto dal nostro Club.\nDurante l’aperitivo cinque nostre socie presen
 teranno la loro professione e le loro attività.\n \nPer chi volesse contin
 uare la serata in compagnia\, è possibile altresì riservare il proprio pos
 to per l’opera\nfemminile “Vecchia sarai tu” di Antonella Questa (http://w
 ww.dramma.it/index.php?option=com_\ncontent&view=article&id=10843&catid=52
 &Itemid=44). Tale opera si terrà nell’ambito della rassegna del\nFestival 
 di Narrazione di Arzo (http://www.festivaldinarrazione.ch/). I biglietti s
 ono disponibili per le nostre\nsocie e amiche a un prezzo di favore di CHF
  20.- anziché CHF 25.-\n \nLe interessate sono gentilmente invitate a conf
 ermare la propria presenza entro lunedì 26 agosto 2013 rispondendo a quest
 a email.\nNell’adesione è importante indicare se si partecipa o meno allo 
 spettacolo serale ad Arzo per permettere il pre-acquisto dei biglietti.\nA
 bbigliamento casual consigliato - adatto anche alla serata.\n 
DTSTART:20130831T170000
DTEND:20130831T230000
LOCATION:Hotel Serpiano
ORGANIZER:MAILTO:BPW Ticino <info@bpw-ticino.ch>
SUMMARY:Incontro con nuove socie -  Passeggiata monte San Giorgio e cena
END:VEVENT
END:VCALENDAR
