BEGIN:VCALENDAR
VERSION:2.0
PRODID:-//BPW Ticino//NONSGML kigkonsult.se iCalcreator 2.16.12//
METHOD:PUBLISH
X-MS-OLK-FORCEINSPECTOROPEN:TRUE
BEGIN:VEVENT
UID:20260422T224027CEST-3232NawuRr@BPW Ticino
DTSTAMP:20260422T204027Z
DESCRIPTION: Siamo liete di proporvi un incontro sulla storia dei colori\, 
 i messaggi nascosti che ci inviano ed il loro utilizzo.   \n\nAntonella Ma
 rzo Cantarelli\, consulente d’Immagine\, ci spiegherà  che ognuno di noi h
 a caratteristiche fisiche e cromatiche che vengono valorizzate con partico
 lari forme e colori\, nel rispetto della propria personalità\, stile di vi
 ta\, occasioni lavorative\, mondane\, sportive.\n\nAl termine sarà offerto
  un aperitivo. \n\nConfermare la presenza entro lunedi' 3 giugno  inviando
  una email a info@bpw-ticino.ch
DTSTART:20130606T183000
DTEND:20130606T203000
LOCATION:Presso sartoria 'Stile Italiano'\, Via Valgersa 4\, 6900 Massagno 
ORGANIZER:MAILTO:BPW Ticino <info@bpw-ticino.ch>
SUMMARY:“Moda e  colore ...  un messaggio nascosto” 
END:VEVENT
END:VCALENDAR
