BEGIN:VCALENDAR
VERSION:2.0
PRODID:-//BPW Ticino//NONSGML kigkonsult.se iCalcreator 2.16.12//
METHOD:PUBLISH
X-MS-OLK-FORCEINSPECTOROPEN:TRUE
BEGIN:VEVENT
UID:20260422T224124CEST-7814MXvgDH@BPW Ticino
DTSTAMP:20260422T204124Z
DESCRIPTION: Con la diffusione di questo invito al network BPW  Club Ticino
 \, inauguriamo la  collaborazione con  l’Italian CFA Society\, emanazione 
 italiana del prestigioso CFA Institute(http://www.cfainstitute.org/about/v
 ision/Pages/index.aspx).  L’Associazione  riunisce a livello internazional
 e i professionisti del settore finanziario\, promuovendo elevati  standard
  dal punto di vista etico e  della formazione\, l’accesso   e l’offerta di
   formazione   continua  e  il  networking.\n\n\nTrovate in allegato in fo
 rmato PDF\, più sotto\, l’invito\; per i  dettagli del programma\, i relat
 ori  e  le iscrizioni  vi rimandiamo alla  pagina : http://www.icfas.it/ev
 ents.aspx?ID=20130522\nL’evento è aperto a tutti.
DTSTART:20130522T180000
DTEND:20130522T200000
LOCATION:BSI -  Palazzo Sant'Anna\, Lugano 
ORGANIZER:MAILTO:BPW Ticino <info@bpw-ticino.ch>
SUMMARY:“Views for the Second  Half of the Year”\,  a cura di   CFA Society
 \, Italy
END:VEVENT
END:VCALENDAR
