BEGIN:VCALENDAR
VERSION:2.0
PRODID:-//BPW Ticino//NONSGML kigkonsult.se iCalcreator 2.16.12//
METHOD:PUBLISH
X-MS-OLK-FORCEINSPECTOROPEN:TRUE
BEGIN:VEVENT
UID:20260422T223924CEST-8017Ft0Pjb@BPW Ticino
DTSTAMP:20260422T203924Z
DESCRIPTION: Ruolo e immagine della donna nella società che cambia \n  \nUn
  appuntamento organizzato dall'’Osservatorio europeo di giornalismo della 
 Facoltà di scienze della comunicazione dell’USI insieme  all'agenzia di co
 municazione yourMedia\, in collaborazione con: RSI - Rete Due\, Business P
 rofessional Women Club Ticino\, Associazione Archivi Riuniti delle Donne T
 icino\, Daisi - Donne Amnesty International Svizzera e Soroptimist Bellinz
 ona e Valli.\n\n \nLa serata è aperta al pubblico ed è gradita l'iscrizion
 e a :  natascha.fioretti@usi.ch  o al numero 076 4462734\n\nDETTAGLI DELLA
  SERATA (in allegato in basso nel PDF 'invito')\n \n\n\n \n\n Interverrann
 o Pamela Thomas-Graham\, Chief Talent\, Branding and Communications Office
 r e membro del Consiglio direttivo di Credit Suisse Group AG (è la prima d
 onna nella storia dell'istituto bancario a ricoprire questo ruolo)\, Anna 
 Matteo\, Direttore generale Area Business Digital Gruppo 24 ORE\, Claudio 
 Giua\, direttore sviluppo e innovazione del Gruppo editoriale L'Espresso\,
  e Marcello Foa\, direttore generale Timedia\, cofondatore dell'EJO e doce
 nte di comunicazione e giornalismo.  \n\n \n  \nSempre più donne oggi si a
 ffermano\, guidano grandi aziende\, dirigono testate giornalistiche. Sempr
 e più professioni\, un tempo maschili\, vengono declinate al femminile: se
 gno che la mentalità e la cultura professionale stanno cambiando. Internet
  ed il mondo dei media digitali hanno consentito nuove possibilità e nuovi
  percorsi per le donne che vogliono affermarsi. Quali ancora le difficoltà
 ? Quali le opportunità per le aziende? E quali il ruolo e le responsabilit
 à per i media?\n  \n \n \n\nQuesti i temi al centro dell’incontro  che sar
 à introdotto da Antonio Rossano\, CEO di yourMedia e moderato da Natascha 
 Fioretti dell’EJO .Il Sindaco di Lugano\, Marco Borradori\,  interverrà in
  apertura per il saluto istituzionale della Città.\n \n \n\n \n\n\n \n\nL’
 evento\, sponsorizzato da AIL e Credit Suisse e patrocinato dalla Città di
  Lugano si terrà martedì\n\n21 maggio 2013\, ore 18.00 presso l'Aula Magna
  dell'Università della Svizzera italiana.  \n\n\nSarà disponibile la tradu
 zione simultanea visto che l'intervento dell'ospite internazionale Pamela 
 Thomas-Graham sarà in lingua inglese.\n\n\nMedia Partner: Radio Fiume Tici
 no\, Il Giornale del Popolo\n\nEvento in collaborazione con: RSI - Rete Du
 e\, Business Professional Women Ticino\, Associazione Archivi Riuniti dell
 e Donne Ticino\, Daisi - Donne Amnesty International Svizzera e Soroptimis
 t Bellinzona e Valli.
DTSTART:20130521T180000
DTEND:20130521T193000
LOCATION:Aula magna USI Lugano 
ORGANIZER:MAILTO:BPW Ticino <info@bpw-ticino.ch>
SUMMARY:“Donne\,  che impresa !'
END:VEVENT
END:VCALENDAR
