BEGIN:VCALENDAR
VERSION:2.0
PRODID:-//BPW Ticino//NONSGML kigkonsult.se iCalcreator 2.16.12//
METHOD:PUBLISH
X-MS-OLK-FORCEINSPECTOROPEN:TRUE
BEGIN:VEVENT
UID:20260422T224048CEST-1240bP2ZBV@BPW Ticino
DTSTAMP:20260422T204048Z
DESCRIPTION: Per tutte le informazioni sullo speciale Equal Pay Day 2013 de
 l BPW Club Ticino cliccare QUI 
DTSTART:20130307T183000
DTEND:20130307T203000
LOCATION:Aula Magna CSIA\, via brentani 18\, Lugano
ORGANIZER:MAILTO:BPW Ticino <info@bpw-ticino.ch>
SUMMARY:Equal Pay Day  2013
END:VEVENT
END:VCALENDAR
