BEGIN:VCALENDAR
VERSION:2.0
PRODID:-//BPW Ticino//NONSGML kigkonsult.se iCalcreator 2.16.12//
METHOD:PUBLISH
X-MS-OLK-FORCEINSPECTOROPEN:TRUE
BEGIN:VEVENT
UID:20260422T223851CEST-2568nkDJEH@BPW Ticino
DTSTAMP:20260422T203851Z
DESCRIPTION: l'annuale e classica\n\nCENA DELLE CANDELE\n\nquest'anno nel s
 uggestivo ritrovo del Villa Sassa\, a Lugano.\n\nPer iscrizioni potete inv
 iare una email QUI
DTSTART:20130208T190000
DTEND:20130208T230000
LOCATION:Villa Sassa\, Lugano
ORGANIZER:MAILTO:BPW Ticino <info@bpw-ticino.ch>
SUMMARY:Cena delle candele 2013
END:VEVENT
END:VCALENDAR
