BEGIN:VCALENDAR
VERSION:2.0
PRODID:-//BPW Ticino//NONSGML kigkonsult.se iCalcreator 2.16.12//
METHOD:PUBLISH
X-MS-OLK-FORCEINSPECTOROPEN:TRUE
BEGIN:VEVENT
UID:20260422T223843CEST-6826hKI0sA@BPW Ticino
DTSTAMP:20260422T203843Z
DESCRIPTION:\n\n\n\n\nIL CLUB BPW TICINO COMPIE 30 ANNI\nUN GRANDE TRAGUARD
 O CHE VI INVITIAMO A CELEBRARE CON NOI \nALLA CENA DI GALA\nSABATO 11 MAGG
 IO 2013 ORE 19.00\nHOTEL DE LA PAIX – Via Cattori 18 - Lugano\n\nSono anco
 ra disponibili posti! Iscrizioni aperte inviando una email a bpw30gala@gma
 il.com\n \n\n\n\nprogramma dettagliato\, invito e locandina su\n\nbpw-tici
 no.ch/gala\n\n\n
DTSTART:20130511T200000
DTEND:20130511T230000
LOCATION:Hotel De la Paix\, Lugano 
ORGANIZER:MAILTO:BPW Ticino <info@bpw-ticino.ch>
SUMMARY:Serata di Gala 30esimo BPW Ticino
END:VEVENT
END:VCALENDAR
