BEGIN:VCALENDAR
VERSION:2.0
PRODID:-//BPW Ticino//NONSGML kigkonsult.se iCalcreator 2.16.12//
METHOD:PUBLISH
X-MS-OLK-FORCEINSPECTOROPEN:TRUE
BEGIN:VEVENT
UID:20260422T224717CEST-0466gloGTA@BPW Ticino
DTSTAMP:20260422T204717Z
DESCRIPTION:Assemblea ordinaria annuale del club BPW Ticino.\n  \npresso il
  Canvetto Luganese di via Simen 14b\, Lugano\, si terrà l'Assemblea Annual
 e delle Socie BPW.\n\nSi prega di confermare la propria presenza o la dele
 ga inviando un'email a info@bpw-ticino.ch \n\nAl termine dell'assemblea co
 me di consueto sarà possibile fermarsi per la cena.\n 
DTSTART:20130118T190000
DTEND:20130118T210000
LOCATION:Lugano\, Canvetto Luganese\, via Simen 14b
ORGANIZER:MAILTO:BPW Ticino <info@bpw-ticino.ch>
SUMMARY:Assemblea annuale BPW Ticino
END:VEVENT
END:VCALENDAR
