BEGIN:VCALENDAR
VERSION:2.0
PRODID:-//BPW Ticino//NONSGML kigkonsult.se iCalcreator 2.16.12//
METHOD:PUBLISH
X-MS-OLK-FORCEINSPECTOROPEN:TRUE
BEGIN:VEVENT
UID:20260422T223849CEST-7556i0At0j@BPW Ticino
DTSTAMP:20260422T203849Z
DESCRIPTION: La tradizionale cena di Natale del BPW Ticino.\n\npresso il ri
 storante Antico Grotto Ticino\, a Mendrisio.\n\n\nSi richiete la conferma 
 della presenza a info@bpw-ticino.ch\n\n\n\n
DTSTART:20121207T200000
DTEND:20121207T230000
LOCATION:Antico grotto Ticino\, Mendrisio
ORGANIZER:MAILTO:BPW Ticino <info@bpw-ticino.ch>
SUMMARY:Cena di Natale 2012
END:VEVENT
END:VCALENDAR
