BEGIN:VCALENDAR
VERSION:2.0
PRODID:-//BPW Ticino//NONSGML kigkonsult.se iCalcreator 2.16.12//
METHOD:PUBLISH
X-MS-OLK-FORCEINSPECTOROPEN:TRUE
BEGIN:VEVENT
UID:20260422T223927CEST-2550dZXmAe@BPW Ticino
DTSTAMP:20260422T203927Z
DESCRIPTION: Serata di presentazione delle nuove socie del club BPT Ticino:
 \n\nLe nuove socie si raccontano!\n\nAl ristorante Botero\, a Lugano (vici
 nanza università)\, orario d'aperitivo.\n\n\nSi tratta di un piccolo spazi
 o che le interessate potranno ritagliarsi al fine di promuovere la propria
  attivita' e farsi conoscere meglio\, un'occasione per favorire il network
 ing che il BPW promuove in ogni sua accezione\, e che consiste nello svilu
 ppare una  rete di relazioni\, professionali e umane\,di cruciale importan
 za per il lavoro  femminile.
DTSTART:20121026T180000
DTEND:20121026T210000
LOCATION:ristorante Botero a Lugano
ORGANIZER:MAILTO:BPW Ticino <info@bpw-ticino.ch>
SUMMARY:Le nuove socie si presentano
END:VEVENT
END:VCALENDAR
