BEGIN:VCALENDAR
VERSION:2.0
PRODID:-//BPW Ticino//NONSGML kigkonsult.se iCalcreator 2.16.12//
METHOD:PUBLISH
X-MS-OLK-FORCEINSPECTOROPEN:TRUE
BEGIN:VEVENT
UID:20260422T224656CEST-9495Rw1wvc@BPW Ticino
DTSTAMP:20260422T204656Z
DESCRIPTION:\nUn incontro -  seminario  in cui discutere assieme ad altre p
 rofessioniste e poter accrescere il proprio bagaglio ed esperienza in ques
 to campo.\n \n\nA Workshop animated by Maren Donata Urschel! \n\n\nAnimato
  dalla nostra socia Maren Donata Urschel attiva nel campo del coaching\n\n
 \n\na method for finding solutions in a business context \nAn interactive 
 workshop for professionals by BPW member \nMaren Donata Urschel \n(07th no
 vember 2012 – 19:00 to 21:00 – USI Lugano\, Location TBD) \nPlease note th
 at this workshop will be held in English. To take full advantage of this l
 earning experience\, reasonable comprehension skills are required. \nWorks
 hop summary: \nThe ability to find solutions is a key ingredient for succe
 ss in the workplace. Often problem-solving in a business context starts wi
 th what is missing and dysfunctional rather than with what is working well
  already. SolutionSurfing\, a method developed by Dr. Peter Szabó\, encour
 ages people to focus on and do more of what is working well\, which is oft
 en faster and more effective than analysing difficulties and their causes.
  As a result\, companies save time and costs and people use their strength
 s and potential to reach higher levels of performance. \nThis interactive 
 1.5 hour Taster offers an introduction to the SolutionSurfing method. Part
 icipants will explore the impact of language and the use of ‘scaling quest
 ions’ in generating solutions and get an opportunity to experience the met
 hod in action. \nMaren Donata Urschel is an experienced coach and coach su
 pervisor who has spent her career working with senior executives internati
 onally in consulting\, knowledge management\, business development\, resea
 rch and project management. She has lived in three countries\, is multi-li
 ngual (fluent English/German\, advanced Italian) and brings freshness\, pr
 ofessionalism and a real joy in partnering with her clients to enable them
  to discover their potential and use it to their best advantage. Maren hol
 ds a Masters in Organisational Psychology from the London School of Econom
 ics\, a Bachelor degree in Drama and English Literature and other internat
 ional academic and professional qualifications. \n\n \nhttp://www.fruitful
 coaching.com/\n\nConfermare per favore la propria presenza a info@bpw-tici
 no.ch\n \n
DTSTART:20121107T190000
DTEND:20121107T210000
LOCATION:- USI Lugano -
ORGANIZER:MAILTO:BPW Ticino <info@bpw-ticino.ch>
SUMMARY:solution-surfing at Work
END:VEVENT
END:VCALENDAR
