BEGIN:VCALENDAR
VERSION:2.0
PRODID:-//BPW Ticino//NONSGML kigkonsult.se iCalcreator 2.16.12//
METHOD:PUBLISH
X-MS-OLK-FORCEINSPECTOROPEN:TRUE
BEGIN:VEVENT
UID:20260422T225336CEST-9586A38aou@BPW Ticino
DTSTAMP:20260422T205336Z
DESCRIPTION:12 ottobre 2012\n\nPresso la sede dei Cantori delle Cime\n\nLa 
 'Masseria de I Cantori delle Cime' (sede del coro) si trova a Lugano sulla
  strada che porta in zona 'La Stampa'. (mappa)\n\nCASTAGNATA E PRANZETTO!
 \n\n- Polenta e Brasato\n- dolci fatti in casa\n- caldarroste\n\n
DTSTART:20121012T183000
DTEND:20121012T200000
LOCATION:presso sede Cantori delle Cime
ORGANIZER:MAILTO:BPW Ticino <info@bpw-ticino.ch>
SUMMARY:Castagnata d'autunno
END:VEVENT
END:VCALENDAR
