BEGIN:VCALENDAR
VERSION:2.0
PRODID:-//BPW Ticino//NONSGML kigkonsult.se iCalcreator 2.16.12//
METHOD:PUBLISH
X-MS-OLK-FORCEINSPECTOROPEN:TRUE
BEGIN:VEVENT
UID:20260422T224109CEST-2520mNIO32@BPW Ticino
DTSTAMP:20260422T204109Z
DESCRIPTION: il BPW Ticino è lieta di invitarvi a uno dei suoi piu importan
 ti incontri annuali:\n \nA CENA CON ARTE\n\n\n\nHotel Coronado\, a Mendris
 io\nOre 19:00\n\nCAMILLE CLAUDEL\n\nSi prega di prenotare a info@bpw-ticin
 o.ch
DTSTART:20120531T190000
DTEND:20120531T230000
LOCATION:Mendrisio -  Hotel Coronado
ORGANIZER:MAILTO:BPW Ticino <info@bpw-ticino.ch>
SUMMARY:A cena con arte
END:VEVENT
END:VCALENDAR
