BEGIN:VCALENDAR
VERSION:2.0
PRODID:-//BPW Ticino//NONSGML kigkonsult.se iCalcreator 2.16.12//
METHOD:PUBLISH
X-MS-OLK-FORCEINSPECTOROPEN:TRUE
BEGIN:VEVENT
UID:20260422T230110CEST-5590JgJeu4@BPW Ticino
DTSTAMP:20260422T210110Z
DESCRIPTION:  		 	 	 		\n\n\n\n\nIl Club BPW Ticino é lieto di invitarvi \nmarted
 í 24 aprile 2012 alle ore 19.00 \nad un incontro con\n\nl’Associazione Arc
 hivi Riuniti delle Donne Ticino \n\nRenata Raggi-Scala\, Presidente\n 		 	 	Ma
 nuela Maffongelli\, Responsabile Biblioteca e Archivio    \n \n \n\n Al te
 rmine della visita sarà offerto un rinfresco \nCasa Maderni – Via Cantonal
 e – 6818 Melano \n\nwww.archividonneticino.ch \n\n \n\n\n\n
DTSTART:20120424T190000
DTEND:20120424T210000
LOCATION:Melano
ORGANIZER:MAILTO:BPW Ticino <info@bpw-ticino.ch>
SUMMARY:Associazione Archivi Riuniti Donne Ticino
END:VEVENT
END:VCALENDAR
