BEGIN:VCALENDAR
VERSION:2.0
PRODID:-//BPW Ticino//NONSGML kigkonsult.se iCalcreator 2.16.12//
METHOD:PUBLISH
X-MS-OLK-FORCEINSPECTOROPEN:TRUE
BEGIN:VEVENT
UID:20260422T224738CEST-0328bvPzgi@BPW Ticino
DTSTAMP:20260422T204738Z
DESCRIPTION: \n\n \n\n\n7 marzo 2012 \nUNHAPPY HOURS Giornata per la parità
  salariale\n\ntra donne e uomini \nBowle Alcolica\nBowle Analcolica\nPizze
 tte - Canapè - Stuzzichini vari \nFr. 30.00 - 18.4 % FR. 24.50 \n\nLe donn
 e in Svizzera guadagnano il 18.4 % in meno degli uomini: ciò significa che
  devono lavorare fino al 7 marzo dell‘anno successivo per ricevere il sala
 rio che\, a parità di lavoro svolto\, gli uomini hanno già maturato il 31 
 dicembre. \n\n\n
DTSTART:20120307T180000
DTEND:20120307T220000
LOCATION:Ristorante Soave 10\, 6900 Lugano
ORGANIZER:MAILTO:BPW Ticino <info@bpw-ticino.ch>
SUMMARY:Unhappy Hour Equal Pay Day 2012
END:VEVENT
END:VCALENDAR
