BEGIN:VCALENDAR
VERSION:2.0
PRODID:-//BPW Ticino//NONSGML kigkonsult.se iCalcreator 2.16.12//
METHOD:PUBLISH
X-MS-OLK-FORCEINSPECTOROPEN:TRUE
BEGIN:VEVENT
UID:20260423T001428CEST-5193P8vLAK@BPW Ticino
DTSTAMP:20260422T221428Z
DESCRIPTION:mercatino di Natale a Melide
DTSTART:20111208T140000
DTEND:20111208T150000
LOCATION:Melide
ORGANIZER:MAILTO:BPW Ticino <info@bpw-ticino.ch>
SUMMARY:mercatino di Natale
END:VEVENT
END:VCALENDAR
