BEGIN:VCALENDAR
VERSION:2.0
PRODID:-//BPW Ticino//NONSGML kigkonsult.se iCalcreator 2.16.12//
METHOD:PUBLISH
X-MS-OLK-FORCEINSPECTOROPEN:TRUE
BEGIN:VEVENT
UID:20260422T224126CEST-8341hMA021@BPW Ticino
DTSTAMP:20260422T204126Z
DESCRIPTION:Dario Fo la pittura di un narratore\nVenerdì 21 ottobre 2011 a
 lle 19.30\n\nIn considerazione degli scopi associativi del BPW\, mirati al
 la promozione e valorizzazione della professionalità femminile\, la Dr.ss
 a Cavadini integrerà nella sua spiegazione\, un inciso su Franca Rame\, c
 ompagna di vita e di lavoro del Maestro Dario Fo\, tracciandone un signifi
 cativo profilo professionale al femminile a partire dal suo impegno politi
 co e artistico fino a particolari momenti della sua vita privata. Una donn
 a\, un personaggio pubblico\, e la sua carriera che ancor oggi continua.\n
 \n\nAll’interno del filone relativo ai “maestri del XX secolo”\, il m.a.x.
 museo di Chiasso propone una mostra antologica dedicata a Dario Fo artista
 . L’occasione prende spunto dalle celebrazioni volte a ricordare i dieci a
 nni di riapertura dello storico Cinema Teatro inaugurato il 22 settembre 2
 001 dopo un attento restauro.\nL’esposizione presenta il percorso artistic
 o del celebre premio Nobel per la letteratura (1997)\; autore\, scenografo
  e regista che adotta la pittura come principale mezzo espressivo.\n\nAl m
 .a.x.museo sono esposte oltre duecento opere fra cui diversi materiali ine
 diti arrivando fino alla produzione artistica più recente (2011). Opere a
 d olio di grande formato\, affiancate da studi in matita\, bozzetti\, dise
 gni policromi\, litografie\, arazzi e collage - alcuni dei quali esposti p
 er la prima volta -\, che permettono di comprendere l’articolata ricerca a
 rtistica e il pensiero del maestro Dario Fo nel corso di sessantacinque an
 ni di intensa attività. Il percorso antologico inizia dal periodo della f
 ormazione avvenuta negli anni ’40 all’Accademia di Brera sotto la guida di
  grandi maestri quali Achille Funi\, Carlo Carrà\, Giacomo Manzù e Marin
 o Marini di cui Fo subisce un forte fascino\, per passare poi alla conosce
 nza diretta di Pablo Picasso\, all’influenza del metafisico Giorgio de Chi
 rico\, di Filippo De Pisis\, Bruno Cassinari o a quella del visionario Mar
 c Chagall. L’intero iter artistico di Dario Fo è vissuto con sperimentazi
 oni autonome e risultati singolari che tengono conto anche delle esperienz
 e europee del post modernismo.\nIl catalogo\, curato da Marco Biscione e N
 icoletta Ossanna Cavadini è pubblicato dalla casa editrice Mazzotta di Mi
 lano\, pp. 240\, CHF 42.- Euro 35.-\nLa mostra rimarrà aperta fino al 15 
 gennaio 2012 – orari MA-DO 10.00 -12.00 / 15.00 – 18.00\nIl biglietto d’in
 gresso di gruppo ammonta a CHF 5.- per persona\, da pagare direttamente al
 la cassa del museo. La visita guidata e l’aperitivo che seguirà sono gent
 ilmente offerti dal Comune di Chiasso.\nProgramma della serata:\nore 19.15
  ore 19.30\nore 20.15\nRitrovo al m.a.x.museo\, Via Dante Alighieri n.6\, 
 Chiasso\, tel. 091- 682 56 56 Visita guidata a cura di Nicoletta Ossanna C
 avadini\, direttrice del\nm.a.x museo e co-curatrice della mostra. aperiti
 vo nella hall del m.a.x.museo\nSarà possibile organizzare una cena facolt
 ativa fra i presenti\, prenotando ad inizio serata in un ristorante deciso
  al momento.\nQuesto invito è esteso a tutti coloro che possono essere in
 teressati\, soprattutto\, tra amici e parenti delle Socie BPW.\nVi preghia
 mo di confermare la vostra partecipazione entro il 19 ottobre prossimo - v
 ia e- mail a: info@bpw-ticino.ch
DTSTART:20111021T193000
DTEND:20111021T203000
LOCATION:Chiasso
ORGANIZER:MAILTO:BPW Ticino <info@bpw-ticino.ch>
SUMMARY:visita guidata Maxmuseo  DARIO FO 
END:VEVENT
END:VCALENDAR
