BEGIN:VCALENDAR
VERSION:2.0
PRODID:-//BPW Ticino//NONSGML kigkonsult.se iCalcreator 2.16.12//
METHOD:PUBLISH
X-MS-OLK-FORCEINSPECTOROPEN:TRUE
BEGIN:VEVENT
UID:20260422T223926CEST-7912iUxcjx@BPW Ticino
DTSTAMP:20260422T203926Z
DESCRIPTION:Il consueto aperitivo YOUNG BPW CLUB\, al Ristorante Anacapri\,
  alla stazione FFS di Lugano (sopra la stazione del trenino Lugano-Ponte T
 resa).\nUn'occasione di incontro per chiacchierare piacevolmente.\n\n
DTSTART:20111020T183000
DTEND:20111020T200000
LOCATION:Ristorante Anacapri\, Stazione FFS\, Lugano
ORGANIZER:MAILTO:BPW Ticino <info@bpw-ticino.ch>
SUMMARY:aperitivo YOUNG BPW CLUB
END:VEVENT
END:VCALENDAR
