BEGIN:VCALENDAR
VERSION:2.0
PRODID:-//BPW Ticino//NONSGML kigkonsult.se iCalcreator 2.16.12//
METHOD:PUBLISH
X-MS-OLK-FORCEINSPECTOROPEN:TRUE
BEGIN:VEVENT
UID:20260423T001429CEST-2707EVD6zo@BPW Ticino
DTSTAMP:20260422T221429Z
DESCRIPTION:        \nASSEMBLEA ORDINARIA 2010\n \nGiovedì 19 Gennaio 2012 
 alle 18.30\n \nRistorante Canvetto Luganese\, via Simen 14 b\, Lugano \n 
 \n                                               \n \nPRIMA CHIAMATA ORE  
 18.45\nSECONDA CHIAMATA ORE 19.00\n \n \nORDINE DEL GIORNO:\n \n \nSALUTO 
 DELLA PRESIDENTE\n \n \n1.     NOMINA DELLE SCRUTATRICI\n\n\n2.     NOMINA
  DELLA PRESIDENTE DEL GIORNO\n\n\n3.     APPROVAZIONE DEL VERBALE DELL’ASS
 EMBLEA 2011\n\n\n4.     PROPOSTA DI NOTE AGGIUNTIVE AD ARTICOLI DELLO STAT
 UTO VIGENTE\n\n\n5.     RELAZIONE DELLA PRESIDENTE\n\n\n6.     RELAZIONE D
 ELLA TESORIERA E DEI REVISORI\n\n\n7.     SCARICO DEL COMITATO\n\n\n8.    
  AMMISSIONI E DIMISSIONI SOCIE \n\n\n9.     NOMINA E/O CONFERMA DEI REVISO
 RI\n \n10.   PROGRAMMA NUOVO ANNO  2011/2012 \n \n11.   VARIE ED EVENTUALI
 \n\n\n \n \nIL COMITATO RICORDA CHE LA PARTECIPAZIONE È OBBLIGATORIA PER T
 UTTE  LE SOCIE \n \n \n \nLugano\, 12.12.2011\n
DTSTART:20120119T190000
DTEND:20120119T230000
LOCATION:Lugano\, Canvetto Luganese\, via Simen 14b
ORGANIZER:MAILTO:BPW Ticino <info@bpw-ticino.ch>
SUMMARY:Assemblea annuale BPW Ticino
END:VEVENT
END:VCALENDAR
