BEGIN:VCALENDAR
VERSION:2.0
PRODID:-//BPW Ticino//NONSGML kigkonsult.se iCalcreator 2.16.12//
METHOD:PUBLISH
X-MS-OLK-FORCEINSPECTOROPEN:TRUE
BEGIN:VEVENT
UID:20260422T225336CEST-6809R1GHDV@BPW Ticino
DTSTAMP:20260422T205336Z
DESCRIPTION:Anche quest'anno ritorna uno degli eventi più attesi del BPW Cl
 ub Ticino:\n\n\n\nA CENA CON ARTE -  con Silvia Bassani\, storica dell'Art
 e.\n\nLa relazione - conferenza attorno a temi artistici farà da contorno 
 alla sontuosa cena.\n\nUna serata da non perdere.\n\n\n\nÈ consigliata la 
 prenotazione dati i posti limitati! 
DTSTART:20111006T200000
DTEND:20111006T230000
LOCATION:luogo da definire
ORGANIZER:MAILTO:BPW Ticino <info@bpw-ticino.ch>
SUMMARY:A Cena con Arte
END:VEVENT
END:VCALENDAR
