BEGIN:VCALENDAR
VERSION:2.0
PRODID:-//BPW Ticino//NONSGML kigkonsult.se iCalcreator 2.16.12//
METHOD:PUBLISH
X-MS-OLK-FORCEINSPECTOROPEN:TRUE
BEGIN:VEVENT
UID:20260422T212047CEST-10436wLe40@BPW Ticino
DTSTAMP:20260422T192047Z
DESCRIPTION:\n\n\nWorkshop centrato sull'affinamento delle tecniche per una
   comunicazione efficace in ambito professionale.\nL'incontro sara'  curat
 o dalle nostre socie Maren Donata Urschel e Anna Favini Robertson\, profes
 sioniste del settore (trovate alcune note di curriculum del volantino alle
 gato).\n\nUna bella opportunita' per  acquisire conoscenze e mettersi alla
  prova  ! \n\nL'evento e' previsto per il 14 settembre\, ore 19.00-21.00\,
  a Lugano (Sala da confermare).\n\nNel frattempo\, Vi saremmo grate se vol
 este   confermare la vostra partecipazione all'indirizzo:\n\nmaren@fruitfu
 lcoaching.com\n\nUn carissimo saluto e ...buona continuazione d'estate a  
 tutte!\n
DTSTART:20110914T190000
DTEND:20110914T210000
LOCATION:Da definire
ORGANIZER:MAILTO:BPW Ticino <info@bpw-ticino.ch>
SUMMARY:Comunicazione efficace in ambito professionale. Workshop. 
END:VEVENT
END:VCALENDAR
