BEGIN:VCALENDAR
VERSION:2.0
PRODID:-//BPW Ticino//NONSGML kigkonsult.se iCalcreator 2.16.12//
METHOD:PUBLISH
X-MS-OLK-FORCEINSPECTOROPEN:TRUE
BEGIN:VEVENT
UID:20260422T212046CEST-5266d2KIk0@BPW Ticino
DTSTAMP:20260422T192046Z
DESCRIPTION:Una festa estiva -  mercatino per la raccolta di fondi per il B
 PW.\n\nLuogo ancora da definire\, seguiranno informazioni!\n\nCome sempre 
 sarà gradita la prenotazione via email a info@bpw-ticino.ch
DTSTART:20110729T120000
DTEND:20110729T230000
LOCATION:luogo da definire
ORGANIZER:MAILTO:BPW Ticino <info@bpw-ticino.ch>
SUMMARY:Festa estiva per la raccolta fondi
END:VEVENT
END:VCALENDAR
