BEGIN:VCALENDAR
VERSION:2.0
PRODID:-//BPW Ticino//NONSGML kigkonsult.se iCalcreator 2.16.12//
METHOD:PUBLISH
X-MS-OLK-FORCEINSPECTOROPEN:TRUE
BEGIN:VEVENT
UID:20260422T224125CEST-32357glTD2@BPW Ticino
DTSTAMP:20260422T204125Z
DESCRIPTION:La tradizionale cena di Natale del BPW anche quest'anno non può
   mancare!\n\n\n\n\n\n\n\n\n\n\n\n\n\n\n\n\n\nSi svolgerà il 3 dicembre 20
 11.\n\nLuogo: il ristorante Antico grotto Ticino\, a Mendrisio.\n\n\n\n \n
 \nLa cucina dell'Antico Grotto Ticino propone piatti basati sulle antiche 
 e gustose ricette ticinesi e lombarde\, senza dimenticare produzioni e mer
 ci locali legate al territorio circostante.\nTra i prodotti locali troviam
 o ad esempio: i famosi formaggini della Valle di Muggio\, il formaggio Zin
 calin\, con stagionatura di due mesi e prodotti con latte crudo\, salumi t
 ipici \, senza dimenticare i prodotti stagionali e piatti tipici come fung
 hi\, brasato al merlot\,luganighetta alle cipolle\,castagne\, carciofi\, s
 elvaggina di capriolo\, lepre e cinghiale\, ma anche piatti di carne alla 
 griglia\, costine e luganichetta\, entrecôte di manzo\, nodini di vitello\
 , pollo di grano\, Rib Eye\, ...\nI dessert proposti vanno dalla crema car
 amellata ai semifreddi\, senza dimenticare la famosa crostata di frutta e 
 il tiramisù\,\ntutti fatti rigorosamente in casa.\nIl ritrovo ideale per c
 hi piace la cucina tipica di grande qualità e amanti del buon vino.\n\n\n
 \n\n\n\n\n Prenotazione obbligatoria scrivendo come di consueto a info@bpw
 -ticino.ch\n\n
DTSTART:20111203T190000
DTEND:20111203T230000
LOCATION:Ristorante Grotto Ticino\, Mendrisio
ORGANIZER:MAILTO:BPW Ticino <info@bpw-ticino.ch>
SUMMARY:Cena di Natale 2011
END:VEVENT
END:VCALENDAR
