BEGIN:VCALENDAR
VERSION:2.0
PRODID:-//BPW Ticino//NONSGML kigkonsult.se iCalcreator 2.16.12//
METHOD:PUBLISH
X-MS-OLK-FORCEINSPECTOROPEN:TRUE
BEGIN:VEVENT
UID:20260422T230807CEST-3460L0t2WV@BPW Ticino
DTSTAMP:20260422T210807Z
DESCRIPTION:Serata informativa di presentazione delle nuove socie\n\n\nPer 
 le socie e le amiche che non fossero riuscite a presenziare alla precedent
 e serata di maggio\, riproponiamo questo incontro.\n \n \nl’incontro che d
 edichiamo a chi si unisce  al nostro Club\, e\, come lo  è stato per l'ann
 o scorso\, siamo sicure che sarà un evento improntato  al successo e alla 
 condivisione\, che per noi tutte rappresenta un  momento di amicizia e di 
 proficua collaborazione. \nSi tratta di un'occasione estremamente interess
 ante  per il nostro Club\, che ci auguriamo vorrete condividere numerose!
 \n \nLe nuove socie si presentano! Vieni a conoscere loro e le loro attivi
 tà in questa serata - aperitivo al ristorante Botero\, a Lugano.\n\nData: 
 10 novembre 2011\, ore 19:00\nLuogo: ristorante Botero a Lugano\n\nÈ gradi
 ta come sempre la conferma della presenza a info@bpw-ticino.ch\n
DTSTART:20111110T190000
DTEND:20111110T200000
LOCATION:Ristorante Botero\, Lugano
ORGANIZER:MAILTO:BPW Ticino <info@bpw-ticino.ch>
SUMMARY:Serata di presentazione delle nuove socie
END:VEVENT
END:VCALENDAR
