BEGIN:VCALENDAR
VERSION:2.0
PRODID:-//BPW Ticino//NONSGML kigkonsult.se iCalcreator 2.16.12//
METHOD:PUBLISH
X-MS-OLK-FORCEINSPECTOROPEN:TRUE
BEGIN:VEVENT
UID:20260422T212012CEST-19909lv81U@BPW Ticino
DTSTAMP:20260422T192012Z
DESCRIPTION:Una serata a duplice tema:\n\n- ELISA trattera' un aggiornament
 o sul sito web e una presentazione dello stesso per chi si fosse persa la 
 serata precedente.\n \n- LUISA dara' conto dell'ultima rinione delle assoc
 iazioni femminili ticinesi\, conovcate dalla FAFT e dalla Commissone Pari 
 opportunita'\, che oltre  ad aggiornare sulle attivita' svolte nell'ultimo
  anno\, si propone di approfondire il tema della scarsa presenza delle don
 ne in  TV\,  in qualita' di ospiti ed esperte \n\nAl termine della serata 
 seguirà un aperitivo.\nChi vorrà potrà fermarsi a cena\, prenotando prima.
 \n\nLuogo: ristorante Botero\, Lugano\nData: 9 giugno 2011\n\nÈ gradita la
  conferma della presenza al club tramite l'email info@bpw-ticino.ch
DTSTART:20110609T190000
DTEND:20110609T200000
LOCATION:Ristorante Botero\, Lugano
ORGANIZER:MAILTO:BPW Ticino <info@bpw-ticino.ch>
SUMMARY:Serata informativa Sito BPW e resoconto riunione associazioni femmi
 nili
END:VEVENT
END:VCALENDAR
