BEGIN:VCALENDAR
VERSION:2.0
PRODID:-//BPW Ticino//NONSGML kigkonsult.se iCalcreator 2.16.12//
METHOD:PUBLISH
X-MS-OLK-FORCEINSPECTOROPEN:TRUE
BEGIN:VEVENT
UID:20260422T212139CEST-7110dhHpr8@BPW Ticino
DTSTAMP:20260422T192139Z
DESCRIPTION:Tutte le informazioni su  www.bpw-ticino.ch/epd
DTSTART:20110325T170000
DTEND:20110325T190000
LOCATION:Lugano\, USI palazzo rosso
ORGANIZER:MAILTO:BPW Ticino <info@bpw-ticino.ch>
SUMMARY:Equal Pay Day: seminario Home Office
END:VEVENT
END:VCALENDAR
