BEGIN:VCALENDAR
VERSION:2.0
PRODID:-//BPW Ticino//NONSGML kigkonsult.se iCalcreator 2.16.12//
METHOD:PUBLISH
X-MS-OLK-FORCEINSPECTOROPEN:TRUE
BEGIN:VEVENT
UID:20260422T212014CEST-72160MKVji@BPW Ticino
DTSTAMP:20260422T192014Z
DESCRIPTION:\nIl 18 marzo\, nell'aula magna dell'USI a Lugano\, avverrà la 
 consegna del premio Ermiza.\nUlteriori informazioni a seguire.\n\n
DTSTART:20110318T200000
DTEND:20110318T230000
LOCATION:Lugano\, USI
ORGANIZER:MAILTO:BPW Ticino <info@bpw-ticino.ch>
SUMMARY:Consegna premio Ermiza
END:VEVENT
END:VCALENDAR
