BEGIN:VCALENDAR
VERSION:2.0
PRODID:-//BPW Ticino//NONSGML kigkonsult.se iCalcreator 2.16.12//
METHOD:PUBLISH
X-MS-OLK-FORCEINSPECTOROPEN:TRUE
BEGIN:VEVENT
UID:20260422T211911CEST-2523r8mxNJ@BPW Ticino
DTSTAMP:20260422T191911Z
DESCRIPTION:In data 3 febbraio 2011\, presso il Canvetto Luganese\, via Sim
 en 14b\, si terrà la consueta assemblea annuale delle socie\, alla quale s
 iete tutte tenute a partecipare.\n\nAl termine dell'assemblea\, chi lo des
 iderasse\, potrà continuare la serata con una cena tra amiche.\n \nIn alle
 gato il verbale dell'assemblea del 2010\, il programma con l'ordine del gi
 orno e la cedola di adesione che dovrà pervenire  entro e non oltre gioved
 ì 27 gennaio 2011 ai seguenti recapiti:\n \nGaia Cicero\nVia Fesciano 8\n6
 965 Cadro\n \no all'indirizzo e-mail\n\ninfo@bpw-ticino.ch \n \nVi ringraz
 iamo per l'attenzione ed auguriamo a tutte voi un felice e sereno 2011.\n
 \n  SCARICA LA DOCUMENTAZIONE IN PDF\n \nVerbale assemblea 2010\n\nCedola 
 di adesione assemblea 2011\n\nOrdine del giorno assemblea 2011\n\n\n
DTSTART:20110203T200000
DTEND:20110203T230000
LOCATION:Lugano\, Canvetto Luganese\, via Simen 14b
ORGANIZER:MAILTO:BPW Ticino <info@bpw-ticino.ch>
SUMMARY:Assemblea annuale BPW Ticino
END:VEVENT
END:VCALENDAR
