BEGIN:VCALENDAR
VERSION:2.0
PRODID:-//BPW Ticino//NONSGML kigkonsult.se iCalcreator 2.16.12//
METHOD:PUBLISH
X-MS-OLK-FORCEINSPECTOROPEN:TRUE
BEGIN:VEVENT
UID:20260422T212355CEST-6505V7fvch@BPW Ticino
DTSTAMP:20260422T192355Z
DESCRIPTION:Il 16 di febbraio di svolgerà la consueta annuale cena delle ca
 ndele.\n\nCi troveremo nello splendito Hotel Villa Sassa\, a Lugano.\n\n\n
 \n\n\n\n\n
DTSTART:20110216T200000
DTEND:20110216T235900
LOCATION:Hotel Villa Sassa\, Lugano\, Ticino
ORGANIZER:MAILTO:BPW Ticino <info@bpw-ticino.ch>
SUMMARY:Cena delle Candele
END:VEVENT
END:VCALENDAR
