BEGIN:VCALENDAR
VERSION:2.0
PRODID:-//BPW Ticino//NONSGML kigkonsult.se iCalcreator 2.16.12//
METHOD:PUBLISH
X-MS-OLK-FORCEINSPECTOROPEN:TRUE
BEGIN:VEVENT
UID:20260422T212012CEST-5121OTSvVo@BPW Ticino
DTSTAMP:20260422T192012Z
DESCRIPTION:
DTSTART:20101210T200000
DTEND:20101210T230000
LOCATION:Cadro\, Ristorante la Torre del Mangia
ORGANIZER:MAILTO:BPW Ticino <info@bpw-ticino.ch>
SUMMARY:Cena di Natale 2010
END:VEVENT
END:VCALENDAR
