BEGIN:VCALENDAR
VERSION:2.0
PRODID:-//BPW Ticino//NONSGML kigkonsult.se iCalcreator 2.16.12//
METHOD:PUBLISH
X-MS-OLK-FORCEINSPECTOROPEN:TRUE
BEGIN:VEVENT
UID:20260422T194808CEST-5909KaG6sU@BPW Ticino
DTSTAMP:20260422T174808Z
DESCRIPTION:Vi aspettiamo sabato 5 aprile 2025 per un appuntamento speciale
  dedicato al tema 'Le competenze umane nell'era dell'AI'\, un incontro sti
 molante con la nostra socia Beatrice Engeler. \n\nDove: Filanda di Mendris
 io\, Sala Verde\nOrario: Accoglienza ore 17:30 – Inizio ore 18:00\n\nDopo 
 la presentazione\, avremo il piacere di proseguire la serata in compagnia:
 \n\nOre 19:15 – Aperitivo presso il Bar 9CENTO\, Mendrisio (Largo Soldini)
 \, a soli 100 metri dalla Filanda. Costo a consumo.\nPer chi lo desidera –
  Cena conviviale presso il Grotto San Martino\, Via alle Cantine\, Mendris
 io. La cena è aperta anche ad accompagnatrici e accompagnatori.\n\nUn'occa
 sione per approfondire il tema della serata\, confrontarci e trascorrere m
 omenti piacevoli insieme. Vi aspettiamo numerose!\n\n✨ Confermate la vostr
 a presenza entro il 3 aprile per aiutarci a organizzare al meglio l’evento
 \, selezionando il/i momento/i a cui vorrete partecipare\, ovvero: \n\n1. 
 Presentazione\n2. Presentazione + aperitivo\n3. Presentazione + aperitivo 
 + cena conviviale\n\n \n
DTSTART:20250405T173000
DTEND:20250405T203000
LOCATION:La Filanda
ORGANIZER:MAILTO:BPW Ticino <info@bpw-ticino.ch>
SUMMARY:Le competenze umane nell'era dell'AI
END:VEVENT
END:VCALENDAR
