BEGIN:VCALENDAR
VERSION:2.0
PRODID:-//BPW Ticino//NONSGML kigkonsult.se iCalcreator 2.16.12//
METHOD:PUBLISH
X-MS-OLK-FORCEINSPECTOROPEN:TRUE
BEGIN:VEVENT
UID:20260422T195045CEST-2865lwrL6P@BPW Ticino
DTSTAMP:20260422T175045Z
DESCRIPTION:\nLe comité central et le bureau central de BPW Switzerland vou
 s invitent à la formation pour les présidentes de club !\n\nVous êtes une 
 présidente de club en devenir ou déjà élue ? Ou vous souhaitez en savoir p
 lus sur les objectifs de BPW et la fonction de présidente de club ?\n\nCet
 te année\, la formation aura lieu sur place\, au bureau de BPW Switzerland
 \, afin de nous donner à toutes l'occasion de discuter directement de thèm
 es et de nous mettre en réseau.\n\nDès 09h15 : Arrivée et café de bienvenu
 e\n09h30 : Début de la formation\n12h30 environ : fin de la formation. Ens
 uite\, il y aura encore du temps pour les questions et les échanges autour
  d'une petite collation.\n\nAdresse : Länggassstrasse 10\, 3012 Berne.\n\n
 Lors de la formation du 26 avril 2025\, nous parlerons des objectifs et de
 s projets de BPW ainsi que de toutes les questions d'organisation qui vous
  concernent en tant que présidente d'un de nos 36 clubs dans toute la Suis
 se.\n\nLangue : les documents relatifs à la formation seront mis à disposi
 tion en allemand et en français. Pour le reste\, le principe est le suivan
 t : «Chacune parle dans sa langue».\n\nNous vous prions de vous inscrire j
 usqu'au 21 avril 2025.\n\nCliquez ici pour vous inscrire.\n\nLes personnes
  qui souhaitent se joindre uniquement en ligne sont invitées à le faire et
  à le mentionner dans leur inscription. En cas de participation via le zoo
 m\, la formation ne peut toutefois être suivie qu'en tant qu'auditrice\; u
 ne participation active est uniquement possible sur place.\n\nLe lien zoom
  pour ceux qui ne peuvent participer qu'en ligne sera envoyé peu avant l'é
 vénement.\n\nNous nous réjouissons d'accueillir le plus grand nombre d'ent
 re vous sur place et de pouvoir échanger avec vous !\n\n\n
DTSTART:20250426T093000
DTEND:20250426T140000
ORGANIZER:MAILTO:BPW Ticino <info@bpw-ticino.ch>
SUMMARY:Formation pour les présidentes de club nouvellement élues
END:VEVENT
END:VCALENDAR
