BEGIN:VCALENDAR
VERSION:2.0
PRODID:-//BPW Ticino//NONSGML kigkonsult.se iCalcreator 2.16.12//
METHOD:PUBLISH
X-MS-OLK-FORCEINSPECTOROPEN:TRUE
BEGIN:VEVENT
UID:20260422T194710CEST-8300Ia7pV5@BPW Ticino
DTSTAMP:20260422T174710Z
DESCRIPTION:Dopo il grande successo delle edizioni del 2022 e 2024\, siamo 
 liete di annunciare il ritorno di 'Divertiamoci con STEAM'\, un evento ded
 icato alle ragazze delle scuole medie\, in programma sabato 22 febbraio 20
 25 presso SUPSI – Manno - dalle ore 14:00 alle ore 17:00.\n\nDivertiamoci 
 con STEAM è organizzato da BPW Club Ticino con il patrocinio della Scuola 
 universitaria Professionale della Svizzera Italiana (SUPSI) e il supporto 
 di IBSA. \n\nClicca qui per iscriverti. \n\nWorkshop: \n \n\n	Scienze: Kate
 rina Bartosh – “Biohacking: Come funzioniamo e come la scienza può aiutarc
 i a stare meglio”\n	Tecnologia: Francesca Sanfilippo – “Generare idee: con 
 creatività e metodo”\n	Ingegneria: Cristina Zanini Barzaghi – “L’ingegneria
  è un mestiere per donne”\n	Matematica: Monica Landoni – “Come mi vede Chat
  GPT?”\n	Arte: Elettra Fiumi – “AI Movie Magic: Dai Vita alle Tue Emozioni!
 ”\n	Scienze: Barbara Mantegazzini – “L’impresa del futuro? Smart\, verde e 
 rosa”\n\n\nConcorso finale con fantastici premi:\n1° classificata: laptop
 \n2° classificata: tablet\n3° classificata: smartwatch\n\nScopri di più
DTSTART:20250222T140000
DTEND:20250222T170000
LOCATION:SUPSI - Manno
ORGANIZER:MAILTO:BPW Ticino <info@bpw-ticino.ch>
SUMMARY:Divertiamoci con STEAM
END:VEVENT
END:VCALENDAR
