BEGIN:VCALENDAR
VERSION:2.0
PRODID:-//BPW Ticino//NONSGML kigkonsult.se iCalcreator 2.16.12//
METHOD:PUBLISH
X-MS-OLK-FORCEINSPECTOROPEN:TRUE
BEGIN:VEVENT
UID:20260422T194552CEST-8272b6lOXR@BPW Ticino
DTSTAMP:20260422T174552Z
DESCRIPTION:\nWelcome speech: Anu Viks\, Regional Coordinator of BPW Europe
 \n\nKEY note speakers:\n\nMyriam Heidelberger Kaufmann\, Co-President BPW 
 Switzerland\, Chair Standing Committee Legislation 2024- 2027 BPW Internat
 ional\n\nLinda Herzog-Mayer\, Co-Director BPW Switzerland since 2020\n\nSa
 brina Pagnetti-Jancer has been a member of BPW since 2018\, including two 
 years as a board member of the Basel-Stadt club. Since 2020\, she has also
  been involved as a member of the commission for the LENA project.\n\nEven
 t hosted by Radmila Pinkavová Jirkovská\, Chair of Women Empowerment Princ
 iples EU Working Group.\n\nWe invite all members of BPW Europe to webinar 
 about Women’s Empowerment Principles (WEPs) where women from different cou
 ntries share the best practices related to the WEPs implementation.\n\nFur
 ther information about the event and the keynote speakers can be found her
 e.\n\nLink to registration\n\n\n
DTSTART:20250220T180000
DTEND:20250220T200000
LOCATION:Online
ORGANIZER:MAILTO:BPW Ticino <info@bpw-ticino.ch>
SUMMARY:WEPs webinar: Switzerland Best Practices
END:VEVENT
END:VCALENDAR
