BEGIN:VCALENDAR
VERSION:2.0
PRODID:-//BPW Ticino//NONSGML kigkonsult.se iCalcreator 2.16.12//
METHOD:PUBLISH
X-MS-OLK-FORCEINSPECTOROPEN:TRUE
BEGIN:VEVENT
UID:20260422T194654CEST-7816cNimao@BPW Ticino
DTSTAMP:20260422T174654Z
DESCRIPTION:\n«Hai tempo?»\n\nSecondo la Rilevazione svizzera della struttu
 ra dei salari (2022)\, l’attuale differenza salariale è del 12%. La dispar
 ità salariale è illegale ed è in contrasto con la Legge sulla parità dei s
 essi sancita dalla Costituzione federale.\n\nLa data dell’Equal Pay Day ca
 mbia di anno in anno\, poiché evidenzia il divario salariale. Se un uomo r
 iceve il suo salario a partire dal 1° gennaio 2025\, una donna deve lavora
 re gratis per il 12% prima di ricevere il suo\, ossia fino al 15 febbraio 
 2025.\n \nCome affronteremo il prossimo Equal Pay Day il 15 febbraio 2025:
 \n\nCome ogni anno\, anche quest’anno ci siamo poste una priorità: Dispari
 tà salariale e la risorsa del tempo.\n\nVolete saperne di più? Allora clic
 cate qui.\n\nPour découvrir les multiples actions de divers clubs\, clique
 z ici.\n \n\n\n
DTSTART:20250215T000000
DTEND:20250215T235900
LOCATION:Schweizweit 
ORGANIZER:MAILTO:BPW Ticino <info@bpw-ticino.ch>
SUMMARY:Equal Pay Day 2025
END:VEVENT
END:VCALENDAR
