BEGIN:VCALENDAR
VERSION:2.0
PRODID:-//BPW Ticino//NONSGML kigkonsult.se iCalcreator 2.16.12//
METHOD:PUBLISH
X-MS-OLK-FORCEINSPECTOROPEN:TRUE
BEGIN:VEVENT
UID:20260422T194947CEST-1175uA4HdR@BPW Ticino
DTSTAMP:20260422T174947Z
DESCRIPTION:Preparati a vivere la magia del Natale con BPW Ticino!\n\nTi as
 pettiamo al nostro esclusivo Christmas Apero\n\nLunedì 16 dicembre\ndalle 
 ore 18:30 alle ore 21:30\npresso Shaker Lugano\nVia degli Albrizzi 3\n\nUn
 'occasione perfetta per vivere momenti di gioia e divertimento in un’atmos
 fera natalizia\, tra deliziosi aperitivi\, brindisi e risate spensierate!
 \nAvremo l'opportunità di ritrovarci\, scambiarci gli auguri e guardare al
  futuro con entusiasmo\, riflettendo sui sogni e sugli obiettivi che ci as
 pettano.\n\nUn brindisi al passato\, ma soprattutto un abbraccio verso ciò
  che ci riserverà il nuovo anno!\n\nCosto dell'aperitivo (food & beverage)
 : CHF 60.-\n\nConferma la tua presenza entro mercoledì 11 dicembre\ntramit
 e il link che trovi in fondo a questa pagina. \n\nPer ragioni organizzativ
 e\, ti chiediamo gentilmente di effettuare il pagamento anticipato tramite
  bonifico bancario:\n\nIBAN: CH20 0076 4434 6481 C000 C\n\nBANCA STATO \nC
 learing: 00764\nBic: BSCTCH22XXX\nIntestato a: BPW CLUB TICINO \nCausale: 
 Nome\, Cognome\, Natale 2024\n
DTSTART:20241216T183000
DTEND:20241216T213000
ORGANIZER:MAILTO:BPW Ticino <info@bpw-ticino.ch>
SUMMARY:Christmas Apero
END:VEVENT
END:VCALENDAR
